BEGIN:VCALENDAR
VERSION:2.0
PRODID:-//pretix//Ticket_Come_To_Code//
BEGIN:VTIMEZONE
TZID:Europe/Rome
BEGIN:STANDARD
DTSTART:20001029T030000
RRULE:FREQ=YEARLY;BYDAY=-1SU;BYMONTH=10
TZNAME:CET
TZOFFSETFROM:+0200
TZOFFSETTO:+0100
END:STANDARD
BEGIN:DAYLIGHT
DTSTART:20000326T020000
RRULE:FREQ=YEARLY;BYDAY=-1SU;BYMONTH=3
TZNAME:CEST
TZOFFSETFROM:+0100
TZOFFSETTO:+0200
END:DAYLIGHT
END:VTIMEZONE
BEGIN:VEVENT
UID:pretix-PLUGAPS-linuxday-0@ticket.cometocode.it
DTSTART;TZID=Europe/Rome:20231028T093000
DTEND;TZID=Europe/Rome:20231028T180000
DESCRIPTION:Tickets: https://ticket.cometocode.it/PLUGAPS/linuxday/\nOrgani
 zer: Associazione culturale PLUG - Pignola Linux User Group
DTSTAMP:20260424T105228Z
LOCATION:La Casa delle tecnologie emergenti di Matera\, Via San Rocco\, 1\,
  75100 Matera MT
SUMMARY:Linux Day Basilicata
END:VEVENT
END:VCALENDAR
